BEGIN:VCALENDAR
PRODID:dch.georgia.gov
VERSION:2.0
CALSCALE:GREGORIAN
BEGIN:VEVENT
UID:dc0dcf0468053809709ea20135152820
DTSTAMP:20260424T204150Z
SUMMARY:DCH Board Meeting
URL:https://dch.georgia.gov/events/2021-05-13/dch-board-meeting
DTSTART;VALUE=DATE:20210513
X-LIC-LOCATION:America/New_York
X-WR-TIMEZONE:America/New_York
END:VEVENT
BEGIN:VTIMEZONE
TZID:America/New_York
END:VTIMEZONE
END:VCALENDAR
